BEGIN:VCALENDAR
VERSION:2.0
PRODID:-//NLCC - ECPv4.0.5//NONSGML v1.0//EN
CALSCALE:GREGORIAN
METHOD:PUBLISH
X-WR-CALNAME:NLCC
X-ORIGINAL-URL:http://newlifewoodstock.org
X-WR-CALDESC:Events for NLCC
BEGIN:VEVENT
DTSTART;TZID="UTC+0":20170922T180000
DTEND;TZID="UTC+0":20170922T220000
DTSTAMP:20260421T172042
CREATED:20170903T191418
LAST-MODIFIED:20170903T191418
UID:1395-1506103200-1506117600@newlifewoodstock.org
SUMMARY:Youth Game Night
DESCRIPTION:
URL:http://newlifewoodstock.org/event/youth-game-night/
LOCATION:5115 Dean Street\, Woodstock\, IL\, 60098
ATTACH;FMTTYPE=image/jpeg:http://newlifewoodstock.org//content/uploads/2017/09/youth-game-night-9-22-17.jpg
END:VEVENT
END:VCALENDAR