BEGIN:VCALENDAR
VERSION:2.0
PRODID:-//NLCC - ECPv4.0.5//NONSGML v1.0//EN
CALSCALE:GREGORIAN
METHOD:PUBLISH
X-WR-CALNAME:NLCC
X-ORIGINAL-URL:http://newlifewoodstock.org
X-WR-CALDESC:Events for NLCC
BEGIN:VEVENT
DTSTART;TZID="UTC+0":20170420T190000
DTEND;TZID="UTC+0":20170420T203000
DTSTAMP:20260422T015324
CREATED:20170406T215521
LAST-MODIFIED:20170406T215647
UID:1214-1492714800-1492720200@newlifewoodstock.org
SUMMARY:Women's Bible Study
DESCRIPTION:
URL:http://newlifewoodstock.org/event/womens-bible-study-7/
LOCATION:5115 Dean Street\, Woodstock\, IL\, 60098
ATTACH;FMTTYPE=image/jpeg:http://newlifewoodstock.org//content/uploads/2017/04/Womens-Bible-study-breathe.jpg
END:VEVENT
END:VCALENDAR