BEGIN:VCALENDAR
VERSION:2.0
PRODID:-//NLCC - ECPv4.0.5//NONSGML v1.0//EN
CALSCALE:GREGORIAN
METHOD:PUBLISH
X-WR-CALNAME:NLCC
X-ORIGINAL-URL:http://newlifewoodstock.org
X-WR-CALDESC:Events for NLCC
BEGIN:VEVENT
DTSTART;TZID="UTC+0":20170302T190000
DTEND;TZID="UTC+0":20170302T233000
DTSTAMP:20260422T064832
CREATED:20170116T004234
LAST-MODIFIED:20170116T004234
UID:1110-1488481200-1488497400@newlifewoodstock.org
SUMMARY:Women's Bible Study
DESCRIPTION:This is a DVD study of  Lisa Bevere's "Without Rival".
URL:http://newlifewoodstock.org/event/womens-bible-study-6/
LOCATION:5115 Dean Street\, Woodstock\, IL\, 60098
END:VEVENT
END:VCALENDAR