BEGIN:VCALENDAR
VERSION:2.0
PRODID:-//NLCC - ECPv4.0.5//NONSGML v1.0//EN
CALSCALE:GREGORIAN
METHOD:PUBLISH
X-WR-CALNAME:NLCC
X-ORIGINAL-URL:http://newlifewoodstock.org
X-WR-CALDESC:Events for NLCC
BEGIN:VEVENT
DTSTART;TZID="UTC+0":20180201T190000
DTEND;TZID="UTC+0":20180201T203000
DTSTAMP:20260421T102200
CREATED:20180107T222813
LAST-MODIFIED:20180107T222813
UID:1544-1517511600-1517517000@newlifewoodstock.org
SUMMARY:Women's Bible Study
DESCRIPTION:
URL:http://newlifewoodstock.org/event/womens-bible-study-20/
END:VEVENT
END:VCALENDAR