BEGIN:VCALENDAR
VERSION:2.0
PRODID:-//NLCC - ECPv4.0.5//NONSGML v1.0//EN
CALSCALE:GREGORIAN
METHOD:PUBLISH
X-WR-CALNAME:NLCC
X-ORIGINAL-URL:http://newlifewoodstock.org
X-WR-CALDESC:Events for NLCC
BEGIN:VEVENT
DTSTART;TZID="UTC+0":20171102T190000
DTEND;TZID="UTC+0":20171102T203000
DTSTAMP:20260421T142531
CREATED:20171008T230131
LAST-MODIFIED:20171008T230131
UID:1436-1509649200-1509654600@newlifewoodstock.org
SUMMARY:Women's Bible Study
DESCRIPTION:
URL:http://newlifewoodstock.org/event/womens-bible-study-17/
LOCATION:5115 Dean Street\, Woodstock\, IL\, 60098
END:VEVENT
END:VCALENDAR