BEGIN:VCALENDAR
VERSION:2.0
PRODID:-//NLCC - ECPv4.0.5//NONSGML v1.0//EN
CALSCALE:GREGORIAN
METHOD:PUBLISH
X-WR-CALNAME:NLCC
X-ORIGINAL-URL:http://newlifewoodstock.org
X-WR-CALDESC:Events for NLCC
BEGIN:VEVENT
DTSTART;TZID="UTC+0":20170928T190000
DTEND;TZID="UTC+0":20170928T203000
DTSTAMP:20260421T185944
CREATED:20170924T222154
LAST-MODIFIED:20170924T222154
UID:1414-1506625200-1506630600@newlifewoodstock.org
SUMMARY:Women's Bible Study
DESCRIPTION:
URL:http://newlifewoodstock.org/event/womens-bible-study-12/
LOCATION:5115 Dean Street\, Woodstock\, IL\, 60098
END:VEVENT
END:VCALENDAR