BEGIN:VCALENDAR
VERSION:2.0
PRODID:-//NLCC - ECPv4.0.5//NONSGML v1.0//EN
CALSCALE:GREGORIAN
METHOD:PUBLISH
X-WR-CALNAME:NLCC
X-ORIGINAL-URL:http://newlifewoodstock.org
X-WR-CALDESC:Events for NLCC
BEGIN:VEVENT
DTSTART;TZID="UTC+0":20160917T093000
DTEND;TZID="UTC+0":20160917T110000
DTSTAMP:20260422T140038
CREATED:20160818T174900
LAST-MODIFIED:20160818T182819
UID:921-1474104600-1474110000@newlifewoodstock.org
SUMMARY:Unashamed - Women's Bible Study - Saturday class
DESCRIPTION:
URL:http://newlifewoodstock.org/event/unashamed-womens-bible-study-saturday-class/
LOCATION:5115 Dean Street\, Woodstock\, IL\, 60098
END:VEVENT
END:VCALENDAR