BEGIN:VCALENDAR
VERSION:2.0
PRODID:-//NLCC - ECPv4.0.5//NONSGML v1.0//EN
CALSCALE:GREGORIAN
METHOD:PUBLISH
X-WR-CALNAME:NLCC
X-ORIGINAL-URL:http://newlifewoodstock.org
X-WR-CALDESC:Events for NLCC
BEGIN:VEVENT
DTSTART;TZID="UTC+0":20161006T190000
DTEND;TZID="UTC+0":20161006T203000
DTSTAMP:20260422T123540
CREATED:20160929T222150
LAST-MODIFIED:20160929T222150
UID:965-1475780400-1475785800@newlifewoodstock.org
SUMMARY:Unashamed - Women's Bible Study
DESCRIPTION:
URL:http://newlifewoodstock.org/event/unashamed-womens-bible-study-2/
LOCATION:5115 Dean Street\, Woodstock\, IL\, 60098
ATTACH;FMTTYPE=image/jpeg:http://newlifewoodstock.org//content/uploads/2016/09/unashamed.jpg
END:VEVENT
END:VCALENDAR