BEGIN:VCALENDAR
VERSION:2.0
PRODID:-//NLCC - ECPv4.0.5//NONSGML v1.0//EN
CALSCALE:GREGORIAN
METHOD:PUBLISH
X-WR-CALNAME:NLCC
X-ORIGINAL-URL:http://newlifewoodstock.org
X-WR-CALDESC:Events for NLCC
BEGIN:VEVENT
DTSTART;TZID="UTC+0":20160731T100000
DTEND;TZID="UTC+0":20160731T113000
DTSTAMP:20260422T123139
CREATED:20160703T202903
LAST-MODIFIED:20160721T191524
UID:809-1469959200-1469964600@newlifewoodstock.org
SUMMARY:Sunday Service
DESCRIPTION:Come for Worship and the Word!  Youth Donut Fundraiser after service.
URL:http://newlifewoodstock.org/event/sunday-service-7/
LOCATION:5115 Dean Street\, Woodstock\, IL\, 60098
CATEGORIES:Sunday Service
ATTACH;FMTTYPE=image/jpeg:http://newlifewoodstock.org//content/uploads/2016/02/new-life-logo.jpg
END:VEVENT
END:VCALENDAR