BEGIN:VCALENDAR
VERSION:2.0
PRODID:-//NLCC - ECPv4.0.5//NONSGML v1.0//EN
CALSCALE:GREGORIAN
METHOD:PUBLISH
X-WR-CALNAME:NLCC
X-ORIGINAL-URL:http://newlifewoodstock.org
X-WR-CALDESC:Events for NLCC
BEGIN:VEVENT
DTSTART;TZID="UTC+0":20170723T100000
DTEND;TZID="UTC+0":20170723T113000
DTSTAMP:20260421T195905
CREATED:20170702T234214
LAST-MODIFIED:20170702T234214
UID:1329-1500804000-1500809400@newlifewoodstock.org
SUMMARY:Sunday Service
DESCRIPTION:
URL:http://newlifewoodstock.org/event/sunday-service-52/
LOCATION:5115 Dean Street\, Woodstock\, IL\, 60098
END:VEVENT
END:VCALENDAR