BEGIN:VCALENDAR
VERSION:2.0
PRODID:-//NLCC - ECPv4.0.5//NONSGML v1.0//EN
CALSCALE:GREGORIAN
METHOD:PUBLISH
X-WR-CALNAME:NLCC
X-ORIGINAL-URL:http://newlifewoodstock.org
X-WR-CALDESC:Events for NLCC
BEGIN:VEVENT
DTSTART;TZID="UTC+0":20170416T100000
DTEND;TZID="UTC+0":20170416T113000
DTSTAMP:20260422T004452
CREATED:20170314T021814
LAST-MODIFIED:20170406T213923
UID:1183-1492336800-1492342200@newlifewoodstock.org
SUMMARY:Resurrection Sunday Service
DESCRIPTION:
URL:http://newlifewoodstock.org/event/sunday-service-40/
LOCATION:5115 Dean Street\, Woodstock\, IL\, 60098
ATTACH;FMTTYPE=image/jpeg:http://newlifewoodstock.org//content/uploads/2017/04/Resurrection-Sunday-2017.jpg
END:VEVENT
END:VCALENDAR