BEGIN:VCALENDAR
VERSION:2.0
PRODID:-//NLCC - ECPv4.0.5//NONSGML v1.0//EN
CALSCALE:GREGORIAN
METHOD:PUBLISH
X-WR-CALNAME:NLCC
X-ORIGINAL-URL:http://newlifewoodstock.org
X-WR-CALDESC:Events for NLCC
BEGIN:VEVENT
DTSTART;TZID="UTC+0":20160529T100000
DTEND;TZID="UTC+0":20160529T100000
DTSTAMP:20260422T152114
CREATED:20160510T033922
LAST-MODIFIED:20160513T031414
UID:631-1464516000-1464516000@newlifewoodstock.org
SUMMARY:Sunday Service
DESCRIPTION:The Memorial of Pentecost
URL:http://newlifewoodstock.org/event/sunday-service-4/
LOCATION:5115 Dean Street\, Woodstock\, IL\, 60098
CATEGORIES:Sunday Service
END:VEVENT
END:VCALENDAR