BEGIN:VCALENDAR
VERSION:2.0
PRODID:-//NLCC - ECPv4.0.5//NONSGML v1.0//EN
CALSCALE:GREGORIAN
METHOD:PUBLISH
X-WR-CALNAME:NLCC
X-ORIGINAL-URL:http://newlifewoodstock.org
X-WR-CALDESC:Events for NLCC
BEGIN:VEVENT
DTSTART;TZID="UTC+0":20161225T100000
DTEND;TZID="UTC+0":20161225T113000
DTSTAMP:20260422T123429
CREATED:20160719T221918
LAST-MODIFIED:20160719T221918
UID:856-1482660000-1482665400@newlifewoodstock.org
SUMMARY:Sunday Service
DESCRIPTION:Join us as we celebrate the birth of our Lord\, Jesus.
URL:http://newlifewoodstock.org/event/sunday-service-28/
LOCATION:5115 Dean Street\, Woodstock\, IL\, 60098
END:VEVENT
END:VCALENDAR