BEGIN:VCALENDAR
VERSION:2.0
PRODID:-//NLCC - ECPv4.0.5//NONSGML v1.0//EN
CALSCALE:GREGORIAN
METHOD:PUBLISH
X-WR-CALNAME:NLCC
X-ORIGINAL-URL:http://newlifewoodstock.org
X-WR-CALDESC:Events for NLCC
BEGIN:VEVENT
DTSTART;TZID="UTC+0":20190901T100000
DTEND;TZID="UTC+0":20190901T113000
DTSTAMP:20260420T024725
CREATED:20190715T151446
LAST-MODIFIED:20190715T151446
UID:2062-1567332000-1567337400@newlifewoodstock.org
SUMMARY:Sunday Service
DESCRIPTION:
URL:http://newlifewoodstock.org/event/sunday-service-161/
LOCATION:5115 Dean Street\, Woodstock\, IL\, 60098
CATEGORIES:Sunday Service
END:VEVENT
END:VCALENDAR