BEGIN:VCALENDAR
VERSION:2.0
PRODID:-//NLCC - ECPv4.0.5//NONSGML v1.0//EN
CALSCALE:GREGORIAN
METHOD:PUBLISH
X-WR-CALNAME:NLCC
X-ORIGINAL-URL:http://newlifewoodstock.org
X-WR-CALDESC:Events for NLCC
BEGIN:VEVENT
DTSTART;TZID="UTC+0":20190630T100000
DTEND;TZID="UTC+0":20190630T113000
DTSTAMP:20260420T091834
CREATED:20190612T041219
LAST-MODIFIED:20190612T041219
UID:2031-1561888800-1561894200@newlifewoodstock.org
SUMMARY:Sunday Service
DESCRIPTION:
URL:http://newlifewoodstock.org/event/sunday-service-151/
LOCATION:5115 Dean Street\, Woodstock\, IL\, 60098
CATEGORIES:Sunday Service
END:VEVENT
END:VCALENDAR