BEGIN:VCALENDAR
VERSION:2.0
PRODID:-//NLCC - ECPv4.0.5//NONSGML v1.0//EN
CALSCALE:GREGORIAN
METHOD:PUBLISH
X-WR-CALNAME:NLCC
X-ORIGINAL-URL:http://newlifewoodstock.org
X-WR-CALDESC:Events for NLCC
BEGIN:VEVENT
DTSTART;TZID="UTC+0":20190609T100000
DTEND;TZID="UTC+0":20190609T233000
DTSTAMP:20260420T075039
CREATED:20190407T201916
LAST-MODIFIED:20190407T202537
UID:1985-1560074400-1560123000@newlifewoodstock.org
SUMMARY:Pentecost Sunday Service
DESCRIPTION:
URL:http://newlifewoodstock.org/event/sunday-service-149/
LOCATION:5115 Dean Street\, Woodstock\, IL\, 60098
CATEGORIES:Sunday Service
END:VEVENT
END:VCALENDAR