BEGIN:VCALENDAR
VERSION:2.0
PRODID:-//NLCC - ECPv4.0.5//NONSGML v1.0//EN
CALSCALE:GREGORIAN
METHOD:PUBLISH
X-WR-CALNAME:NLCC
X-ORIGINAL-URL:http://newlifewoodstock.org
X-WR-CALDESC:Events for NLCC
BEGIN:VEVENT
DTSTART;TZID="UTC+0":20190428T100000
DTEND;TZID="UTC+0":20190428T113000
DTSTAMP:20260420T104701
CREATED:20190128T193101
LAST-MODIFIED:20190128T193101
UID:1932-1556445600-1556451000@newlifewoodstock.org
SUMMARY:Sunday Service
DESCRIPTION:
URL:http://newlifewoodstock.org/event/sunday-service-143/
LOCATION:5115 Dean Street\, Woodstock\, IL\, 60098
CATEGORIES:Sunday Service
END:VEVENT
END:VCALENDAR