BEGIN:VCALENDAR
VERSION:2.0
PRODID:-//NLCC - ECPv4.0.5//NONSGML v1.0//EN
CALSCALE:GREGORIAN
METHOD:PUBLISH
X-WR-CALNAME:NLCC
X-ORIGINAL-URL:http://newlifewoodstock.org
X-WR-CALDESC:Events for NLCC
BEGIN:VEVENT
DTSTART;TZID="UTC+0":20181007T100000
DTEND;TZID="UTC+0":20181007T113000
DTSTAMP:20260420T235850
CREATED:20180812T233109
LAST-MODIFIED:20180812T233109
UID:1777-1538906400-1538911800@newlifewoodstock.org
SUMMARY:Sunday Service
DESCRIPTION:
URL:http://newlifewoodstock.org/event/sunday-service-115/
LOCATION:5115 Dean Street\, Woodstock\, IL\, 60098
CATEGORIES:Sunday Service
END:VEVENT
END:VCALENDAR