BEGIN:VCALENDAR
VERSION:2.0
PRODID:-//NLCC - ECPv4.0.5//NONSGML v1.0//EN
CALSCALE:GREGORIAN
METHOD:PUBLISH
X-WR-CALNAME:NLCC
X-ORIGINAL-URL:http://newlifewoodstock.org
X-WR-CALDESC:Events for NLCC
BEGIN:VEVENT
DTSTART;TZID="UTC+0":20160226T080000
DTEND;TZID="UTC+0":20160226T170000
DTSTAMP:20260422T191833
CREATED:20160226T054040
LAST-MODIFIED:20160226T054040
UID:171-1456473600-1456506000@newlifewoodstock.org
SUMMARY:Service 02
DESCRIPTION:
URL:http://newlifewoodstock.org/event/service-02/
LOCATION:5115 Dean Street\, Woodstock\, IL\, 60098
END:VEVENT
END:VCALENDAR