BEGIN:VCALENDAR
VERSION:2.0
PRODID:-//NLCC - ECPv4.0.5//NONSGML v1.0//EN
CALSCALE:GREGORIAN
METHOD:PUBLISH
X-WR-CALNAME:NLCC
X-ORIGINAL-URL:http://newlifewoodstock.org
X-WR-CALDESC:Events for NLCC
BEGIN:VEVENT
DTSTART;TZID="UTC+0":20161017T173000
DTEND;TZID="UTC+0":20161017T173000
DTSTAMP:20260422T125607
CREATED:20160929T225920
LAST-MODIFIED:20160929T225920
UID:981-1476725400-1476725400@newlifewoodstock.org
SUMMARY:School of Biblical Evangelism
DESCRIPTION:
URL:http://newlifewoodstock.org/event/school-of-biblical-evangelism-4/
LOCATION:5115 Dean Street\, Woodstock\, IL\, 60098
ATTACH;FMTTYPE=image/jpeg:http://newlifewoodstock.org//content/uploads/2016/09/school-of-evangelism.jpg
END:VEVENT
END:VCALENDAR