BEGIN:VCALENDAR
VERSION:2.0
PRODID:-//NLCC - ECPv4.0.5//NONSGML v1.0//EN
CALSCALE:GREGORIAN
METHOD:PUBLISH
X-WR-CALNAME:NLCC
X-ORIGINAL-URL:http://newlifewoodstock.org
X-WR-CALDESC:Events for NLCC
BEGIN:VEVENT
DTSTART;TZID="UTC+0":20170511T190000
DTEND;TZID="UTC+0":20170511T203000
DTSTAMP:20260422T003559
CREATED:20170417T120247
LAST-MODIFIED:20170417T120247
UID:1239-1494529200-1494534600@newlifewoodstock.org
SUMMARY:Men's Bible Study
DESCRIPTION:
URL:http://newlifewoodstock.org/event/mens-bible-study-4/
LOCATION:5115 Dean Street\, Woodstock\, IL\, 60098
ATTACH;FMTTYPE=image/jpeg:http://newlifewoodstock.org//content/uploads/2017/04/Mens-Bible-Study-Fight.jpg
END:VEVENT
END:VCALENDAR