BEGIN:VCALENDAR
VERSION:2.0
PRODID:-//NLCC - ECPv4.0.5//NONSGML v1.0//EN
CALSCALE:GREGORIAN
METHOD:PUBLISH
X-WR-CALNAME:NLCC
X-ORIGINAL-URL:http://newlifewoodstock.org
X-WR-CALDESC:Events for NLCC
BEGIN:VEVENT
DTSTART;TZID="UTC+0":20180125T190000
DTEND;TZID="UTC+0":20180125T203000
DTSTAMP:20260421T111907
CREATED:20180107T222252
LAST-MODIFIED:20180107T222252
UID:1539-1516906800-1516912200@newlifewoodstock.org
SUMMARY:Men's Bible Study
DESCRIPTION:
URL:http://newlifewoodstock.org/event/mens-bible-study-13/
LOCATION:5115 Dean Street\, Woodstock\, IL\, 60098
END:VEVENT
END:VCALENDAR