BEGIN:VCALENDAR
VERSION:2.0
PRODID:-//NLCC - ECPv4.0.5//NONSGML v1.0//EN
CALSCALE:GREGORIAN
METHOD:PUBLISH
X-WR-CALNAME:NLCC
X-ORIGINAL-URL:http://newlifewoodstock.org
X-WR-CALDESC:Events for NLCC
BEGIN:VEVENT
DTSTART;TZID="UTC+0":20171026T190000
DTEND;TZID="UTC+0":20171026T203000
DTSTAMP:20260421T212332
CREATED:20170924T222702
LAST-MODIFIED:20170924T222702
UID:1419-1509044400-1509049800@newlifewoodstock.org
SUMMARY:Men's Bible Study
DESCRIPTION:
URL:http://newlifewoodstock.org/event/mens-bible-study-10/
LOCATION:5115 Dean Street\, Woodstock\, IL\, 60098
END:VEVENT
END:VCALENDAR