BEGIN:VCALENDAR
VERSION:2.0
PRODID:-//NLCC - ECPv4.0.5//NONSGML v1.0//EN
CALSCALE:GREGORIAN
METHOD:PUBLISH
X-WR-CALNAME:NLCC
X-ORIGINAL-URL:http://newlifewoodstock.org
X-WR-CALDESC:Events for NLCC
BEGIN:VEVENT
DTSTART;TZID="UTC+0":20160901T190000
DTEND;TZID="UTC+0":20160901T190000
DTSTAMP:20260422T134903
CREATED:20160831T204654
LAST-MODIFIED:20160831T204710
UID:928-1472756400-1472756400@newlifewoodstock.org
SUMMARY:Iron Men -Men's Bible Study
DESCRIPTION:
URL:http://newlifewoodstock.org/event/iron-men-mens-bible-study-2/
LOCATION:5115 Dean Street\, Woodstock\, IL\, 60098
END:VEVENT
END:VCALENDAR