BEGIN:VCALENDAR
VERSION:2.0
PRODID:-//NLCC - ECPv4.0.5//NONSGML v1.0//EN
CALSCALE:GREGORIAN
METHOD:PUBLISH
X-WR-CALNAME:NLCC
X-ORIGINAL-URL:http://newlifewoodstock.org
X-WR-CALDESC:Events for NLCC
BEGIN:VEVENT
DTSTART;TZID="UTC+0":20160827T100000
DTEND;TZID="UTC+0":20160827T120000
DTSTAMP:20260422T133817
CREATED:20160807T203959
LAST-MODIFIED:20160807T204046
UID:915-1472292000-1472299200@newlifewoodstock.org
SUMMARY:Hebrew Roots Class
DESCRIPTION:
URL:http://newlifewoodstock.org/event/hebrew-roots-class/
LOCATION:5115 Dean Street\, Woodstock\, IL\, 60098
END:VEVENT
END:VCALENDAR