BEGIN:VCALENDAR
VERSION:2.0
PRODID:-//NLCC - ECPv4.0.5//NONSGML v1.0//EN
CALSCALE:GREGORIAN
METHOD:PUBLISH
X-WR-CALNAME:NLCC
X-ORIGINAL-URL:http://newlifewoodstock.org
X-WR-CALDESC:Events for NLCC
BEGIN:VEVENT
DTSTART;TZID="UTC+0":20160616T183000
DTEND;TZID="UTC+0":20160616T183000
DTSTAMP:20260422T180030
CREATED:20160513T032443
LAST-MODIFIED:20160513T032443
UID:735-1466101800-1466101800@newlifewoodstock.org
SUMMARY:Guys & Grills
DESCRIPTION:Chicken BBQ!
URL:http://newlifewoodstock.org/event/guys-grills/
LOCATION:5115 Dean Street\, Woodstock\, IL\, 60098
ATTACH;FMTTYPE=image/jpeg:http://newlifewoodstock.org//content/uploads/2016/02/Guysandgrills.jpg
END:VEVENT
END:VCALENDAR