BEGIN:VCALENDAR
VERSION:2.0
PRODID:-//NLCC - ECPv4.0.5//NONSGML v1.0//EN
CALSCALE:GREGORIAN
METHOD:PUBLISH
X-WR-CALNAME:NLCC
X-ORIGINAL-URL:http://newlifewoodstock.org
X-WR-CALDESC:Events for NLCC
BEGIN:VEVENT
DTSTART;TZID="UTC+0":20160922T183000
DTEND;TZID="UTC+0":20160922T183000
DTSTAMP:20260422T134212
CREATED:20160831T204838
LAST-MODIFIED:20160831T204838
UID:929-1474569000-1474569000@newlifewoodstock.org
SUMMARY:Guys & Grills
DESCRIPTION:Fajita night
URL:http://newlifewoodstock.org/event/guys-grills-4/
LOCATION:5115 Dean Street\, Woodstock\, IL\, 60098
END:VEVENT
END:VCALENDAR