BEGIN:VCALENDAR
VERSION:2.0
PRODID:-//NLCC - ECPv4.0.5//NONSGML v1.0//EN
CALSCALE:GREGORIAN
METHOD:PUBLISH
X-WR-CALNAME:NLCC
X-ORIGINAL-URL:http://newlifewoodstock.org
X-WR-CALDESC:Events for NLCC
BEGIN:VEVENT
DTSTART;TZID="UTC+0":20160818T183000
DTEND;TZID="UTC+0":20160818T203000
DTSTAMP:20260422T134259
CREATED:20160807T203156
LAST-MODIFIED:20160807T203156
UID:913-1471545000-1471552200@newlifewoodstock.org
SUMMARY:Guys & Grills
DESCRIPTION:
URL:http://newlifewoodstock.org/event/guys-grills-3/
LOCATION:5115 Dean Street\, Woodstock\, IL\, 60098
END:VEVENT
END:VCALENDAR