BEGIN:VCALENDAR
VERSION:2.0
PRODID:-//NLCC - ECPv4.0.5//NONSGML v1.0//EN
CALSCALE:GREGORIAN
METHOD:PUBLISH
X-WR-CALNAME:NLCC
X-ORIGINAL-URL:http://newlifewoodstock.org
X-WR-CALDESC:Events for NLCC
BEGIN:VEVENT
DTSTART;TZID="UTC+0":20170416T100000
DTEND;TZID="UTC+0":20170416T113000
DTSTAMP:20260422T003011
CREATED:20170406T212345
LAST-MODIFIED:20170406T212345
UID:1206-1492336800-1492342200@newlifewoodstock.org
SUMMARY:Called Out Youth Service
DESCRIPTION:
URL:http://newlifewoodstock.org/event/called-out-youth-service-2/
LOCATION:5115 Dean Street\, Woodstock\, IL\, 60098
CATEGORIES:Sunday Service
ATTACH;FMTTYPE=image/jpeg:http://newlifewoodstock.org//content/uploads/2017/04/April-2017-Youth.jpg
END:VEVENT
END:VCALENDAR