BEGIN:VCALENDAR
VERSION:2.0
PRODID:-//NLCC - ECPv4.0.5//NONSGML v1.0//EN
CALSCALE:GREGORIAN
METHOD:PUBLISH
X-WR-CALNAME:NLCC
X-ORIGINAL-URL:http://newlifewoodstock.org
X-WR-CALDESC:Events for NLCC
BEGIN:VEVENT
DTSTART;TZID="UTC+0":20161030T090000
DTEND;TZID="UTC+0":20161030T100000
DTSTAMP:20260422T140434
CREATED:20160929T224433
LAST-MODIFIED:20160929T224433
UID:972-1477818000-1477821600@newlifewoodstock.org
SUMMARY:Adult Sunday School
DESCRIPTION:
URL:http://newlifewoodstock.org/event/adult-sunday-school-4/
LOCATION:5115 Dean Street\, Woodstock\, IL\, 60098
ATTACH;FMTTYPE=image/jpeg:http://newlifewoodstock.org//content/uploads/2016/09/Spirit-Soul-Body.jpg
END:VEVENT
END:VCALENDAR