BEGIN:VCALENDAR
VERSION:2.0
PRODID:-//NLCC - ECPv4.0.5//NONSGML v1.0//EN
CALSCALE:GREGORIAN
METHOD:PUBLISH
X-WR-CALNAME:NLCC
X-ORIGINAL-URL:http://newlifewoodstock.org
X-WR-CALDESC:Events for NLCC
BEGIN:VEVENT
DTSTART;TZID="UTC+0":20180109T000000
DTEND;TZID="UTC+0":20180129T235500
DTSTAMP:20260421T112209
CREATED:20180107T215520
LAST-MODIFIED:20180107T215520
UID:1537-1515456000-1517270100@newlifewoodstock.org
SUMMARY:21-Day Corporate Fast
DESCRIPTION:
URL:http://newlifewoodstock.org/event/21-day-corporate-fast/
END:VEVENT
END:VCALENDAR